BEGIN:VCALENDAR
VERSION:2.0
PRODID:-//mf-cafprp - ECPv6.15.20//NONSGML v1.0//EN
CALSCALE:GREGORIAN
METHOD:PUBLISH
X-WR-CALNAME:mf-cafprp
X-ORIGINAL-URL:https://cafprp.com
X-WR-CALDESC:Évènements pour mf-cafprp
REFRESH-INTERVAL;VALUE=DURATION:PT1H
X-Robots-Tag:noindex
X-PUBLISHED-TTL:PT1H
BEGIN:VTIMEZONE
TZID:Europe/Paris
BEGIN:DAYLIGHT
TZOFFSETFROM:+0100
TZOFFSETTO:+0200
TZNAME:CEST
DTSTART:20240331T010000
END:DAYLIGHT
BEGIN:STANDARD
TZOFFSETFROM:+0200
TZOFFSETTO:+0100
TZNAME:CET
DTSTART:20241027T010000
END:STANDARD
BEGIN:DAYLIGHT
TZOFFSETFROM:+0100
TZOFFSETTO:+0200
TZNAME:CEST
DTSTART:20250330T010000
END:DAYLIGHT
BEGIN:STANDARD
TZOFFSETFROM:+0200
TZOFFSETTO:+0100
TZNAME:CET
DTSTART:20251026T010000
END:STANDARD
BEGIN:DAYLIGHT
TZOFFSETFROM:+0100
TZOFFSETTO:+0200
TZNAME:CEST
DTSTART:20260329T010000
END:DAYLIGHT
BEGIN:STANDARD
TZOFFSETFROM:+0200
TZOFFSETTO:+0100
TZNAME:CET
DTSTART:20261025T010000
END:STANDARD
END:VTIMEZONE
BEGIN:VEVENT
DTSTART;VALUE=DATE:20250604
DTEND;VALUE=DATE:20250605
DTSTAMP:20260423T033504
CREATED:20250604T070026Z
LAST-MODIFIED:20250606T082954Z
UID:2562-1748995200-1749081599@cafprp.com
SUMMARY:MAC SST
DESCRIPTION:
URL:https://cafprp.com/calendrier/mac-sst-2/
END:VEVENT
BEGIN:VEVENT
DTSTART;VALUE=DATE:20250619
DTEND;VALUE=DATE:20250620
DTSTAMP:20260423T033504
CREATED:20250619T114635Z
LAST-MODIFIED:20250612T114735Z
UID:2591-1750291200-1750377599@cafprp.com
SUMMARY:MAC SST
DESCRIPTION:
URL:https://cafprp.com/calendrier/mac-sst-3/
END:VEVENT
BEGIN:VEVENT
DTSTART;VALUE=DATE:20250619
DTEND;VALUE=DATE:20250620
DTSTAMP:20260423T033504
CREATED:20250612T115330Z
LAST-MODIFIED:20250612T115330Z
UID:2593-1750291200-1750377599@cafprp.com
SUMMARY:MAC SST
DESCRIPTION:
URL:https://cafprp.com/calendrier/mac-sst-4/
END:VEVENT
BEGIN:VEVENT
DTSTART;VALUE=DATE:20250625
DTEND;VALUE=DATE:20250626
DTSTAMP:20260423T033504
CREATED:20250623T134150Z
LAST-MODIFIED:20250623T134311Z
UID:2601-1750809600-1750895999@cafprp.com
SUMMARY:Gestes et Postures
DESCRIPTION:
URL:https://cafprp.com/calendrier/gestes-et-postures/
END:VEVENT
END:VCALENDAR