BEGIN:VCALENDAR
VERSION:2.0
PRODID:-//mf-cafprp - ECPv6.15.20//NONSGML v1.0//EN
CALSCALE:GREGORIAN
METHOD:PUBLISH
X-WR-CALNAME:mf-cafprp
X-ORIGINAL-URL:https://cafprp.com
X-WR-CALDESC:Évènements pour mf-cafprp
REFRESH-INTERVAL;VALUE=DURATION:PT1H
X-Robots-Tag:noindex
X-PUBLISHED-TTL:PT1H
BEGIN:VTIMEZONE
TZID:Europe/Paris
BEGIN:DAYLIGHT
TZOFFSETFROM:+0100
TZOFFSETTO:+0200
TZNAME:CEST
DTSTART:20240331T010000
END:DAYLIGHT
BEGIN:STANDARD
TZOFFSETFROM:+0200
TZOFFSETTO:+0100
TZNAME:CET
DTSTART:20241027T010000
END:STANDARD
BEGIN:DAYLIGHT
TZOFFSETFROM:+0100
TZOFFSETTO:+0200
TZNAME:CEST
DTSTART:20250330T010000
END:DAYLIGHT
BEGIN:STANDARD
TZOFFSETFROM:+0200
TZOFFSETTO:+0100
TZNAME:CET
DTSTART:20251026T010000
END:STANDARD
BEGIN:DAYLIGHT
TZOFFSETFROM:+0100
TZOFFSETTO:+0200
TZNAME:CEST
DTSTART:20260329T010000
END:DAYLIGHT
BEGIN:STANDARD
TZOFFSETFROM:+0200
TZOFFSETTO:+0100
TZNAME:CET
DTSTART:20261025T010000
END:STANDARD
BEGIN:DAYLIGHT
TZOFFSETFROM:+0100
TZOFFSETTO:+0200
TZNAME:CEST
DTSTART:20270328T010000
END:DAYLIGHT
BEGIN:STANDARD
TZOFFSETFROM:+0200
TZOFFSETTO:+0100
TZNAME:CET
DTSTART:20271031T010000
END:STANDARD
END:VTIMEZONE
BEGIN:VEVENT
DTSTART;VALUE=DATE:20260408
DTEND;VALUE=DATE:20260409
DTSTAMP:20260422T121154
CREATED:20260408T065858Z
LAST-MODIFIED:20260404T070353Z
UID:2999-1775606400-1775692799@cafprp.com
SUMMARY:AT EX 1
DESCRIPTION:
URL:https://cafprp.com/calendrier/at-ex-1/
END:VEVENT
BEGIN:VEVENT
DTSTART;VALUE=DATE:20260402
DTEND;VALUE=DATE:20260404
DTSTAMP:20260422T121154
CREATED:20260220T072539Z
LAST-MODIFIED:20260220T072539Z
UID:2877-1775088000-1775260799@cafprp.com
SUMMARY:SST Initial
DESCRIPTION:
URL:https://cafprp.com/calendrier/sst-initial-4/
END:VEVENT
BEGIN:VEVENT
DTSTART;VALUE=DATE:20260401
DTEND;VALUE=DATE:20260402
DTSTAMP:20260422T121154
CREATED:20260208T171252Z
LAST-MODIFIED:20260208T171252Z
UID:2861-1775001600-1775087999@cafprp.com
SUMMARY:Gestes et Postures
DESCRIPTION:
URL:https://cafprp.com/calendrier/gestes-et-postures-7/
END:VEVENT
BEGIN:VEVENT
DTSTART;VALUE=DATE:20260330
DTEND;VALUE=DATE:20260331
DTSTAMP:20260422T121154
CREATED:20260316T164021Z
LAST-MODIFIED:20260316T164021Z
UID:2926-1774828800-1774915199@cafprp.com
SUMMARY:Equipier de Premiere Intervention
DESCRIPTION:
URL:https://cafprp.com/calendrier/equipier-de-premiere-intervention-4/
END:VEVENT
BEGIN:VEVENT
DTSTART;VALUE=DATE:20260326
DTEND;VALUE=DATE:20260327
DTSTAMP:20260422T121154
CREATED:20260316T163706Z
LAST-MODIFIED:20260316T163706Z
UID:2923-1774483200-1774569599@cafprp.com
SUMMARY:Risques Routier
DESCRIPTION:
URL:https://cafprp.com/calendrier/risques-routier/
END:VEVENT
BEGIN:VEVENT
DTSTART;VALUE=DATE:20260324
DTEND;VALUE=DATE:20260325
DTSTAMP:20260422T121154
CREATED:20260220T072458Z
LAST-MODIFIED:20260220T072458Z
UID:2875-1774310400-1774396799@cafprp.com
SUMMARY:Gestes et Postures
DESCRIPTION:
URL:https://cafprp.com/calendrier/gestes-et-postures-8/
END:VEVENT
BEGIN:VEVENT
DTSTART;VALUE=DATE:20260323
DTEND;VALUE=DATE:20260324
DTSTAMP:20260422T121154
CREATED:20260220T072424Z
LAST-MODIFIED:20260220T072424Z
UID:2873-1774224000-1774310399@cafprp.com
SUMMARY:Gestes et Postures
DESCRIPTION:
URL:https://cafprp.com/calendrier/gestes-et-postures-6/
END:VEVENT
BEGIN:VEVENT
DTSTART;VALUE=DATE:20260319
DTEND;VALUE=DATE:20260320
DTSTAMP:20260422T121154
CREATED:20260316T163213Z
LAST-MODIFIED:20260316T163213Z
UID:2921-1773878400-1773964799@cafprp.com
SUMMARY:MAC SST
DESCRIPTION:
URL:https://cafprp.com/calendrier/mac-sst-9/
END:VEVENT
BEGIN:VEVENT
DTSTART;VALUE=DATE:20260317
DTEND;VALUE=DATE:20260319
DTSTAMP:20260422T121154
CREATED:20260316T163114Z
LAST-MODIFIED:20260316T163114Z
UID:2919-1773705600-1773878399@cafprp.com
SUMMARY:SST Initial
DESCRIPTION:
URL:https://cafprp.com/calendrier/sst-initial-5/
END:VEVENT
BEGIN:VEVENT
DTSTART;VALUE=DATE:20260312
DTEND;VALUE=DATE:20260314
DTSTAMP:20260422T121154
CREATED:20260220T072334Z
LAST-MODIFIED:20260220T072334Z
UID:2871-1773273600-1773446399@cafprp.com
SUMMARY:SST Initial
DESCRIPTION:
URL:https://cafprp.com/calendrier/sst-initial-3/
END:VEVENT
BEGIN:VEVENT
DTSTART;VALUE=DATE:20260310
DTEND;VALUE=DATE:20260311
DTSTAMP:20260422T121154
CREATED:20260220T072301Z
LAST-MODIFIED:20260220T072301Z
UID:2869-1773100800-1773187199@cafprp.com
SUMMARY:MAC SST
DESCRIPTION:
URL:https://cafprp.com/calendrier/mac-sst-8/
END:VEVENT
BEGIN:VEVENT
DTSTART;VALUE=DATE:20260306
DTEND;VALUE=DATE:20260307
DTSTAMP:20260422T121154
CREATED:20260208T171024Z
LAST-MODIFIED:20260220T072100Z
UID:2855-1772755200-1772841599@cafprp.com
SUMMARY:Equipier de Premiere Intervention
DESCRIPTION:
URL:https://cafprp.com/calendrier/equipier-de-premiere-intervention-3/
END:VEVENT
BEGIN:VEVENT
DTSTART;VALUE=DATE:20260303
DTEND;VALUE=DATE:20260305
DTSTAMP:20260422T121154
CREATED:20260208T171110Z
LAST-MODIFIED:20260208T171110Z
UID:2857-1772496000-1772668799@cafprp.com
SUMMARY:SST Initial
DESCRIPTION:
URL:https://cafprp.com/calendrier/sst-initial-2/
END:VEVENT
BEGIN:VEVENT
DTSTART;VALUE=DATE:20260226
DTEND;VALUE=DATE:20260227
DTSTAMP:20260422T121154
CREATED:20260220T072209Z
LAST-MODIFIED:20260220T072209Z
UID:2867-1772064000-1772150399@cafprp.com
SUMMARY:MAC SST
DESCRIPTION:
URL:https://cafprp.com/calendrier/mac-sst-7/
END:VEVENT
BEGIN:VEVENT
DTSTART;VALUE=DATE:20260223
DTEND;VALUE=DATE:20260225
DTSTAMP:20260422T121154
CREATED:20260223T080009Z
LAST-MODIFIED:20260208T171622Z
UID:2853-1771804800-1771977599@cafprp.com
SUMMARY:SST Initial
DESCRIPTION:
URL:https://cafprp.com/calendrier/sst-initial/
END:VEVENT
BEGIN:VEVENT
DTSTART;VALUE=DATE:20260108
DTEND;VALUE=DATE:20260110
DTSTAMP:20260422T121154
CREATED:20251215T170517Z
LAST-MODIFIED:20260110T160046Z
UID:2768-1767830400-1768003199@cafprp.com
SUMMARY:SST Initial
DESCRIPTION:
URL:https://cafprp.com/calendrier/sst-initiale-9/
END:VEVENT
BEGIN:VEVENT
DTSTART;VALUE=DATE:20260107
DTEND;VALUE=DATE:20260108
DTSTAMP:20260422T121154
CREATED:20250107T170552Z
LAST-MODIFIED:20251215T170803Z
UID:2770-1767744000-1767830399@cafprp.com
SUMMARY:Equipier de Premiere Intervention
DESCRIPTION:
URL:https://cafprp.com/calendrier/equipier-de-premiere-intervention/
END:VEVENT
BEGIN:VEVENT
DTSTART;VALUE=DATE:20260106
DTEND;VALUE=DATE:20260107
DTSTAMP:20260422T121154
CREATED:20251215T170412Z
LAST-MODIFIED:20251215T170412Z
UID:2766-1767657600-1767743999@cafprp.com
SUMMARY:Gestes et Postures
DESCRIPTION:
URL:https://cafprp.com/calendrier/gestes-et-postures-5/
END:VEVENT
BEGIN:VEVENT
DTSTART;VALUE=DATE:20260105
DTEND;VALUE=DATE:20260106
DTSTAMP:20260422T121154
CREATED:20251215T170325Z
LAST-MODIFIED:20251215T170325Z
UID:2763-1767571200-1767657599@cafprp.com
SUMMARY:Gestes et Postures
DESCRIPTION:
URL:https://cafprp.com/calendrier/gestes-et-postures-4/
END:VEVENT
BEGIN:VEVENT
DTSTART;VALUE=DATE:20251217
DTEND;VALUE=DATE:20251219
DTSTAMP:20260422T121154
CREATED:20251217T070004Z
LAST-MODIFIED:20260110T160059Z
UID:2761-1765929600-1766102399@cafprp.com
SUMMARY:SST Initial
DESCRIPTION:
URL:https://cafprp.com/calendrier/sst-initiale-8/
END:VEVENT
BEGIN:VEVENT
DTSTART;VALUE=DATE:20251211
DTEND;VALUE=DATE:20251212
DTSTAMP:20260422T121154
CREATED:20251024T150645Z
LAST-MODIFIED:20251125T204938Z
UID:2677-1765411200-1765497599@cafprp.com
SUMMARY:MAC SST
DESCRIPTION:
URL:https://cafprp.com/calendrier/mac-sst-6/
END:VEVENT
BEGIN:VEVENT
DTSTART;VALUE=DATE:20251209
DTEND;VALUE=DATE:20251211
DTSTAMP:20260422T121154
CREATED:20251205T133809Z
LAST-MODIFIED:20260110T160107Z
UID:2755-1765238400-1765411199@cafprp.com
SUMMARY:SST Initial
DESCRIPTION:
URL:https://cafprp.com/calendrier/sst-initiale-7/
END:VEVENT
BEGIN:VEVENT
DTSTART;VALUE=DATE:20251124
DTEND;VALUE=DATE:20251126
DTSTAMP:20260422T121154
CREATED:20251124T080015Z
LAST-MODIFIED:20251125T204822Z
UID:2751-1763942400-1764115199@cafprp.com
SUMMARY:SST Initiale
DESCRIPTION:
URL:https://cafprp.com/calendrier/sst-initiale-6/
END:VEVENT
BEGIN:VEVENT
DTSTART;VALUE=DATE:20251009
DTEND;VALUE=DATE:20251011
DTSTAMP:20260422T121154
CREATED:20251024T150903Z
LAST-MODIFIED:20251024T150903Z
UID:2681-1759968000-1760140799@cafprp.com
SUMMARY:SST Initiale
DESCRIPTION:
URL:https://cafprp.com/calendrier/sst-initiale-5/
END:VEVENT
BEGIN:VEVENT
DTSTART;VALUE=DATE:20251001
DTEND;VALUE=DATE:20251003
DTSTAMP:20260422T121154
CREATED:20251024T150825Z
LAST-MODIFIED:20251024T150825Z
UID:2679-1759276800-1759449599@cafprp.com
SUMMARY:SST Initiale
DESCRIPTION:
URL:https://cafprp.com/calendrier/sst-initiale-4/
END:VEVENT
BEGIN:VEVENT
DTSTART;VALUE=DATE:20250904
DTEND;VALUE=DATE:20250906
DTSTAMP:20260422T121154
CREATED:20250904T060050Z
LAST-MODIFIED:20251024T150042Z
UID:2674-1756944000-1757116799@cafprp.com
SUMMARY:SST Initiale
DESCRIPTION:
URL:https://cafprp.com/calendrier/sst-initiale-3/
END:VEVENT
BEGIN:VEVENT
DTSTART;VALUE=DATE:20250718
DTEND;VALUE=DATE:20250719
DTSTAMP:20260422T121154
CREATED:20250711T075508Z
LAST-MODIFIED:20250711T075508Z
UID:2620-1752796800-1752883199@cafprp.com
SUMMARY:MAC SST
DESCRIPTION:
URL:https://cafprp.com/calendrier/mac-sst-5/
END:VEVENT
BEGIN:VEVENT
DTSTART;VALUE=DATE:20250709
DTEND;VALUE=DATE:20250710
DTSTAMP:20260422T121154
CREATED:20250623T134536Z
LAST-MODIFIED:20250623T134536Z
UID:2605-1752019200-1752105599@cafprp.com
SUMMARY:Gestes et Postures
DESCRIPTION:
URL:https://cafprp.com/calendrier/gestes-et-postures-3/
END:VEVENT
BEGIN:VEVENT
DTSTART;VALUE=DATE:20250702
DTEND;VALUE=DATE:20250703
DTSTAMP:20260422T121154
CREATED:20250623T134417Z
LAST-MODIFIED:20250623T134507Z
UID:2603-1751414400-1751500799@cafprp.com
SUMMARY:Gestes et Postures
DESCRIPTION:
URL:https://cafprp.com/calendrier/gestes-et-postures-2/
END:VEVENT
BEGIN:VEVENT
DTSTART;VALUE=DATE:20250625
DTEND;VALUE=DATE:20250626
DTSTAMP:20260422T121154
CREATED:20250623T134150Z
LAST-MODIFIED:20250623T134311Z
UID:2601-1750809600-1750895999@cafprp.com
SUMMARY:Gestes et Postures
DESCRIPTION:
URL:https://cafprp.com/calendrier/gestes-et-postures/
END:VEVENT
END:VCALENDAR